BEGIN:VCALENDAR
VERSION:2.0
PRODID:-//Coach VTT - ECPv5.0.2.1//NONSGML v1.0//EN
CALSCALE:GREGORIAN
METHOD:PUBLISH
X-WR-CALNAME:Coach VTT
X-ORIGINAL-URL:https://www.vttcoach.fr
X-WR-CALDESC:Évènements pour Coach VTT
BEGIN:VTIMEZONE
TZID:Europe/Paris
BEGIN:DAYLIGHT
TZOFFSETFROM:+0100
TZOFFSETTO:+0200
TZNAME:CEST
DTSTART:20190331T010000
END:DAYLIGHT
BEGIN:STANDARD
TZOFFSETFROM:+0200
TZOFFSETTO:+0100
TZNAME:CET
DTSTART:20191027T010000
END:STANDARD
END:VTIMEZONE
BEGIN:VEVENT
DTSTART;TZID=Europe/Paris:20190303T093000
DTEND;TZID=Europe/Paris:20190303T160000
DTSTAMP:20260423T114025
CREATED:20181125T135804Z
LAST-MODIFIED:20190129T095356Z
UID:2339-1551605400-1551628800@www.vttcoach.fr
SUMMARY:COMPLET Stage VTT de Maniabilité à BUTHIERS (77) – VTT Coach
DESCRIPTION:Stage VTT  BUTHIERS de Maniabilité à (77)\nVélo Technique et Trajectoire propose un stage de maniabilité qui aura lieu le 3 mars\nVTT en bon état obligatoire\nAu programme: technique de lever de roues\, descente et monter de marche\, position virages….\nLe lieu sera la base de loisirs de BUTHIERS 77. Stage VTT Buthiers\nDurée 9:30-12h / 13h00-16h \nRéservation obligatoire via le formulaire en dessous ou par mail \nRéservation via le formulaire en ligne\nvelott60@gmail.com\n0680883971 \nTarif: 80€ ( repas compris)\nAcompte de 15 € \, le reste à payer sur place ( espèces ou chèques) \nAttention nombres de places limitées !!!\nSe munir de pédales plates et protèges tibias\nCasque obligatoire ! \nPour en savoir plus sur la maniabilité cliquer ici \n\n\n	Sur le même thème\n
URL:https://www.vttcoach.fr/calendrier/stage-vtt-de-maniabilite-a-buthiers-77-vtt-coach-2-2/
LOCATION:Base de loisirs de Buthiers\, 73 Rue des Roches\, Buthiers\, 77760\, France
CATEGORIES:Stage maniabilité
ATTACH;FMTTYPE=image/jpeg:https://www.vttcoach.fr/wp-content/uploads/2018/02/DSC_0231.jpg
ORGANIZER;CN="V%C3%A9lo%20Technique%20et%20Trajectoire":MAILTO:velott60@gmail.com
END:VEVENT
END:VCALENDAR