BEGIN:VCALENDAR
VERSION:2.0
PRODID:-//Coach VTT - ECPv5.0.2.1//NONSGML v1.0//EN
CALSCALE:GREGORIAN
METHOD:PUBLISH
X-WR-CALNAME:Coach VTT
X-ORIGINAL-URL:https://www.vttcoach.fr
X-WR-CALDESC:Évènements pour Coach VTT
BEGIN:VTIMEZONE
TZID:Europe/Paris
BEGIN:DAYLIGHT
TZOFFSETFROM:+0100
TZOFFSETTO:+0200
TZNAME:CEST
DTSTART:20210328T010000
END:DAYLIGHT
BEGIN:STANDARD
TZOFFSETFROM:+0200
TZOFFSETTO:+0100
TZNAME:CET
DTSTART:20211031T010000
END:STANDARD
END:VTIMEZONE
BEGIN:VEVENT
DTSTART;TZID=Europe/Paris:20211025T093000
DTEND;TZID=Europe/Paris:20211105T163000
DTSTAMP:20260421T032910
CREATED:20210930T145241Z
LAST-MODIFIED:20211015T132516Z
UID:3602-1635154200-1636129800@www.vttcoach.fr
SUMMARY:Stage VTT Prépa TRJV
DESCRIPTION:Stage VTT en vue de préparer la saison TRJV\nSession trial accessible en VTT traditionnel et vélo trial\nDemi journée: 22€ ; Journée 40€ ; Semaine 1 160€  et semaine 2 128€ \nDe 8 à 16 ans \nInscription: via le formulaire ici\nInformations: contact@vttcoach.fr \n \n\n\n\n\n\n25 octobre au 29 octobre\n\n\n\n\n\n\nLundi 25\nMardi 26\nMercredi 27\nJeudi 28\nVendredi 29\n\n\nButhiers (77)\n\n\nMatin 9h30-12h30\n22€\nXC\nTrial\nEnduro/ Maniabilité\nXC\nTrial\n\n\nApres midi 13h30-16h30\n22€\n\n\nJournée 40€\n\nTRJV / trial\n\n\nPassage Biker 1\,2\,3\n\n\n\n\n2 au 5 novembre\n\n\n\n\n\n\nLundi 1\nMardi 2\nMercredi 3\nJeudi 4\nVendredi 5\n\n\n\nCaisnes\nMontmorency\nCaisnes\nLa Neuville en Hez\n\n\nMatin 9h30-12h30\n22€\n\nTrial\nEnduro/ DH\nTrial\nXC\n\n\nApres midi 13h30-16h30\n22€\n\n\nJournée 40€\n\nTRJV / trial\n\nTRJV / trial\n\n\n\n\n
URL:https://www.vttcoach.fr/calendrier/stage-vtt-prepa-trjv/
CATEGORIES:Stage maniabilité,Stage trial
ATTACH;FMTTYPE=image/jpeg:https://www.vttcoach.fr/wp-content/uploads/2021/09/Lets-go-to-ride.jpg
END:VEVENT
END:VCALENDAR