BEGIN:VCALENDAR
VERSION:2.0
PRODID:-//Coach VTT - ECPv5.0.2.1//NONSGML v1.0//EN
CALSCALE:GREGORIAN
METHOD:PUBLISH
X-WR-CALNAME:Coach VTT
X-ORIGINAL-URL:https://www.vttcoach.fr
X-WR-CALDESC:Évènements pour Coach VTT
BEGIN:VTIMEZONE
TZID:Europe/Paris
BEGIN:DAYLIGHT
TZOFFSETFROM:+0100
TZOFFSETTO:+0200
TZNAME:CEST
DTSTART:20200329T010000
END:DAYLIGHT
BEGIN:STANDARD
TZOFFSETFROM:+0200
TZOFFSETTO:+0100
TZNAME:CET
DTSTART:20201025T010000
END:STANDARD
END:VTIMEZONE
BEGIN:VEVENT
DTSTART;TZID=Europe/Paris:20200815T080000
DTEND;TZID=Europe/Paris:20200829T170000
DTSTAMP:20260423T084536
CREATED:20200311T124443Z
LAST-MODIFIED:20200311T124443Z
UID:2907-1597478400-1598720400@www.vttcoach.fr
SUMMARY:Séjour sud
DESCRIPTION:
URL:https://www.vttcoach.fr/calendrier/sejour-sud/
END:VEVENT
END:VCALENDAR